BEGIN:VCALENDAR
VERSION:2.0
PRODID:-//A LOVE LETTER TO ART - ECPv6.15.20//NONSGML v1.0//EN
CALSCALE:GREGORIAN
METHOD:PUBLISH
X-WR-CALNAME:A LOVE LETTER TO ART
X-ORIGINAL-URL:https://alovelettertoart.com
X-WR-CALDESC:Events for A LOVE LETTER TO ART
REFRESH-INTERVAL;VALUE=DURATION:PT1H
X-Robots-Tag:noindex
X-PUBLISHED-TTL:PT1H
BEGIN:VTIMEZONE
TZID:America/Los_Angeles
BEGIN:DAYLIGHT
TZOFFSETFROM:-0800
TZOFFSETTO:-0700
TZNAME:PDT
DTSTART:20240310T100000
END:DAYLIGHT
BEGIN:STANDARD
TZOFFSETFROM:-0700
TZOFFSETTO:-0800
TZNAME:PST
DTSTART:20241103T090000
END:STANDARD
BEGIN:DAYLIGHT
TZOFFSETFROM:-0800
TZOFFSETTO:-0700
TZNAME:PDT
DTSTART:20250309T100000
END:DAYLIGHT
BEGIN:STANDARD
TZOFFSETFROM:-0700
TZOFFSETTO:-0800
TZNAME:PST
DTSTART:20251102T090000
END:STANDARD
BEGIN:DAYLIGHT
TZOFFSETFROM:-0800
TZOFFSETTO:-0700
TZNAME:PDT
DTSTART:20260308T100000
END:DAYLIGHT
BEGIN:STANDARD
TZOFFSETFROM:-0700
TZOFFSETTO:-0800
TZNAME:PST
DTSTART:20261101T090000
END:STANDARD
BEGIN:DAYLIGHT
TZOFFSETFROM:-0800
TZOFFSETTO:-0700
TZNAME:PDT
DTSTART:20270314T100000
END:DAYLIGHT
BEGIN:STANDARD
TZOFFSETFROM:-0700
TZOFFSETTO:-0800
TZNAME:PST
DTSTART:20271107T090000
END:STANDARD
END:VTIMEZONE
BEGIN:VEVENT
DTSTART;VALUE=DATE:20250327
DTEND;VALUE=DATE:20260601
DTSTAMP:20260423T160510
CREATED:20251024T204545Z
LAST-MODIFIED:20260413T184853Z
UID:8778-1743033600-1780271999@alovelettertoart.com
SUMMARY:Art Calendar: All Eyes On Us at Edge on the Square (SF Chinatown) | Ongoing
DESCRIPTION:All Eyes On Us | Ongoing\n\nEvent Details\nEdge on the Square’s All Eyes on Us: Invention & Ingenuity During Artistic Diasporas spotlights “hidden dragons”—artists whose creative paths were reshaped or paused amid the challenges of immigration\, assimilation\, and survival. Featuring sound art\, mixed media\, installations\, and photography by Bhumikorn Kongtaveelert\, David Huang\, Hou Yumei\, Jeanette Lazam\, Jiabao Li\, Leland Wong\, Master Ko Si Hing\, Sun Park\, Terry Luk\, and Yuqian Sun\, the exhibition uplifts Asian American and diasporic stories of resilience and adaptation. Through their work\, these artists illuminate how displacement and cultural marginalization can inspire new forms of expression—revealing the quiet ingenuity of those who persist in the shadows until the time to emerge arrives. \nEvent Dates\, Hours\, & Recap \nAll Eyes On Us All Eyes on Us: Invention & Ingenuity During Artistic Diasporas is an ongoing exhibition on view at Edge on the Square (Chinatown SF). \n*The gallery is open by appointment only. Email Hello@edgeonthesquare.org.
URL:https://alovelettertoart.com/event/art-calendar-all-eyes-on-us-at-edge-on-the-square-chinatown-sf-ongoing/
LOCATION:Edge on the Square\, 800 Grant Street\, San Francisco\, 94108\, United States
CATEGORIES:Art Calendar
END:VEVENT
BEGIN:VEVENT
DTSTART;VALUE=DATE:20251115
DTEND;VALUE=DATE:20260504
DTSTAMP:20260423T160510
CREATED:20251109T210224Z
LAST-MODIFIED:20260209T192638Z
UID:8958-1763164800-1777852799@alovelettertoart.com
SUMMARY:Art Calendar: KAWS: FAMILY at SFMOMA (SF SoMa) | Nov. 15\, 2025–May 3\, 2026
DESCRIPTION:KAWS: FAMILY | Nov. 15\, 2025–May 3\, 2026\n\nExhibition Details\nSFMOMA’s KAWS: FAMILY marks the artist’s first major West Coast museum exhibition\, showcasing three decades of his (Brian Donnelly) distinctive\, emotionally resonant work. Featuring paintings\, drawings\, sculptures\, and iconic character-based pieces drawn from pop culture\, the show highlights KAWS’s ability to blend playfulness with poignancy. At its center is FAMILY (2021)\, a monumental bronze sculpture of his beloved figures—COMPANION\, BFF\, and CHUM—depicted as a tender family unit\, inviting viewers to reflect on themes of connection\, vulnerability\, and shared humanity. \nExhibition Dates\, Hours\, Admission\, Discounts \nKAWS: FAMILY  is on view at SFMOMA (SoMa SF) from Nov. 15\, 2025–May 3\, 2026. *Members’ Opening Reception: Friday\, Nov. 14\, 7:00–10:00 p.m. \n⭐ SFMOMA HOURS: Open Monday–Tuesday 10:00 a.m.–5:00 p.m. CLOSED WEDNESDAY. Thursday 12:00-8:00 p.m.; Friday–Sunday 10:00 a.m.–5:00 p.m.  \n⭐ SFMOMA ADMISSION: \n\n\nGeneral Admission Tickets Adults $30\nSeniors 60+ $25\nAges 19-24 $23\n18 and under FREE\n*SPECIAL EXHIBITIONS + $15 (Includes access to permanent collections)\nMembership starts at $130 GA/$110 Senior/$90 Working Artist\n\n\n⭐ SFMOMA DISCOUNTS (FREE GA): \n\n\nFREE FIRST THURSDAYS (Residents of the 9 Bay Area Counties)\nFREE FAMILY DAYS (up to 4 adults accompanying one child)\nFREE COMMUNITY DAYS\nDiscover & Go (Free w/library card – may not apply to all counties)\nSF Museums for All (show your EBT or Medi-Cal card/ID)\nSF Unified Free Staff Admission (at show proof of employment/ID – reserve in-person\, not available online)\nBlue Star Museum Discount (FREE Admission to U.S. military personnel and veterans plus up to 5 family members from the 3rd Sat in May until the 1st Monday in Sept.)\nFree General Admission + Guest w/ Sotheby’s Preferred Membership.\nFree General Admission + Guest for SFMOMA corporate partners.\n\n⭐ SFMOMA DINING (*MEMBERS RECEIVE A 10% DISCOUNT): \n\n\nSteps Coffee (2nd floor) is open Fri-Tues 9:30–4:30 p.m.; Thurs 11:00–6:00 p.m.\nCafe 5 (5th floor) is open Fri-Tues 10:30–4:00 p.m.; Thurs 12:00–7:30 p.m. (*Thursday Happy Hour 4:30–7:00 p.m. Includes $6 and $11 beer/wine\, cocktails\, and a selection of bites.)\nJane on Third (street level) Amanda Michael’s local cafe chain named for her daughter\, serves housemade baked goods\, breakfast\, sandwiches\, and salads—perfect for a quick snack or leisurely lunch. Open to the public\, MUSEUM ADMISSION NOT REQUIRED. Hours: Mon.–Fri. 9:00–5:00 p.m.; Sat.–Sun. 10:00–5:00 p.m.\n\n\nQUICK GUIDE: Berkeley Art Museum and Pacific Film Archive (BAMPFA)\n\nQUICK GUIDE: Berkeley Art Museum and Pacific Film Archive (BAMPFA)
URL:https://alovelettertoart.com/event/art-calendar-kaws-family-at-sfmoma-soma-sf-nov-15-2025-may-3-2026/
LOCATION:SFMOMA\, 151 Third Street\, San Francisco\, CA\, 94103\, United States
CATEGORIES:Art Calendar
END:VEVENT
BEGIN:VEVENT
DTSTART;VALUE=DATE:20260117
DTEND;VALUE=DATE:20260801
DTSTAMP:20260423T160510
CREATED:20260112T174214Z
LAST-MODIFIED:20260115T164221Z
UID:9401-1768608000-1785542399@alovelettertoart.com
SUMMARY:Art Calendar: ICA SF's Stratagems by Tara Donovan and EARTHSEED DOME by Lily Kwong at Transamerica Pyramid Center (SF FiDi) | Jan. 17–July 31\, 2026
DESCRIPTION:Stratagems by Tara Donovan and EARTHSEED DOME | Jan. 17–July 31\, 2026\n\n\nExhibition Details\nStratagems by Tara Donovan and EARTHSEED DOME by Lily Kwong debut at the Transamerica Pyramid Center as part of ICA SF’s Pyramid Arts initiative during San Francisco Art Week 2026 (Jan 17–25). Donovan presents monumental Stratagems sculptures—five shown publicly for the first time—constructed from thousands of recycled CDs that respond dynamically to light\, atmosphere\, and the surrounding architecture. Installed in the glass Annex gallery\, the vertically oriented works enter into a striking dialogue with the Transamerica Pyramid itself\, transforming the site into an immersive convergence of material\, urban scale\, and perception\, alongside Kwong’s nature-driven EARTHSEED DOME installation \nEvent Dates\, Hours\, & Admission \n**Opening Reception on January 17\, 2026 from 6:00 p.m.–10:00 p.m. at Transamerica Pyramid Center. Includes music\, cash bar\, light bites\, and Radial Ritual\, a site-specific performance by artist Madeline Hollander featuring six dancers celebrating the inception of Lily Kwong’s EARTHSEED DOME. RSVP here (add to waitlist). \n*The Annex gallery (Stratagems) is open Daily from 10:00 a.m.–5:00 p.m. The sculpture garden (EARTHSEED DOME) is open Daily from sunrise to sunset. \nADMISSION IS FREE to ICA SF Exhibitions.
URL:https://alovelettertoart.com/event/art-calendar-ica-sf-stratagems-by-tara-donovan-and-earthseed-dome-by-lily-kwong-at-transamerica-pyramid-center-fidi-sf-jan-17-july-31-2026/
LOCATION:Transamerica Pyramid Center\, 600 Montgomery Street\, San Francisco\, 94111\, United States
CATEGORIES:Art Calendar
END:VEVENT
BEGIN:VEVENT
DTSTART;VALUE=DATE:20260211
DTEND;VALUE=DATE:20260517
DTSTAMP:20260423T160510
CREATED:20260106T180535Z
LAST-MODIFIED:20260112T232715Z
UID:9354-1770768000-1778975999@alovelettertoart.com
SUMMARY:Art Calendar: Trina Michelle Robinson: Open Your Eyes to Water at 500 Capp Street (SF Mission) & Root Division (SF SoMa) | Feb. 11–May 16\, 2026
DESCRIPTION:Trina Michelle Robinson: Open Your Eyes to Water | Feb. 11–May 16\, 2026\n\nEvent Details\nTrina Michelle Robinson: Open Your Eyes to Water\, curated by PJ Policarpio\, is a two-venue solo exhibition presented by 500 Capp Street (the David Ireland House) and Root Division\, featuring immersive\, research-based installations that trace Black ancestry\, migration\, and memory through film\, sound\, printmaking\, and living archival practices spanning Senegal\, the American South\, Chicago\, and California. \nEvent Dates & Hours \nTrina Michelle Robinson: Open Your Eyes to Water is on view at 500 Capp Street (SF Mission District) and Root Division (SF SoMa) from Feb. 11–May 16\, 2026. **Opening Receptions on February 14\, 2026 from 12:00 p.m.–3:00 p.m. at 500 Capp Street; 5:00 p.m.–7:00 p.m. at Root Division. \n*500 Capp Street is open Friday and Saturday from 12:00 p.m.–5:00 p.m. *FREE Self-Guided Tours on Friday and Saturday during business hours. Guided Tours (60 min/$20) are available on Fridays at 4:00 p.m. \n*Root Division is open Wednesday–Friday from 12:00 p.m.–6:00p.m. and SATURDAY BY APPOINTMENT ONLY from 2:00 p.m.–6:00 p.m. \n  \n  \n  \n 
URL:https://alovelettertoart.com/event/art-calendar-trina-michelle-robinson-open-your-eyes-to-water-at-500-capp-street-root-division-feb-11-may-16-2026/
LOCATION:500 Capp Street\, 500 Capp Street\, San Francisco\, CA\, 94110\, United States
CATEGORIES:Art Calendar
END:VEVENT
BEGIN:VEVENT
DTSTART;VALUE=DATE:20260212
DTEND;VALUE=DATE:20260315
DTSTAMP:20260423T160510
CREATED:20260209T233713Z
LAST-MODIFIED:20260209T233713Z
UID:9599-1770854400-1773532799@alovelettertoart.com
SUMMARY:Art Calendar: Alvin Armstrong: Peer Pressure at Jonathan Carver Moore (SF Tenderloin) | Feb. 12–March 14\, 2026
DESCRIPTION:Alvin Armstrong: Peer Pressure | Feb. 12–March 14\, 2026\n\nEvent Details\nJonathan Carver Moore presents Alvin Armstrong: Peer Pressure\, a solo exhibition by the gallery’s fifth artist-in-residence\, opening February 12. A painter dedicated to honoring the beauty\, power\, and complexity of the Black American community\, Armstrong embraces the full spectrum of human experience—moving beyond narratives of trauma to foreground authenticity\, resilience\, and dignity in his work. \nEvent Dates & Hours \nAlvin Armstrong: Peer Pressure is on view at Jonathan Carver Moore (SF Tenderloin) from Feb. 12–March 14\, 2026. \n*The gallery is open Thursday and Friday 12:00 p.m.–6:00 pm.; Saturday 12:00 p.m.–4:00 p.m. and by appointment. 
URL:https://alovelettertoart.com/event/art-calendar-alvin-armstrong-peer-pressure-at-jonathan-carver-moore-sf-tenderloin-feb-12-march-14-2026/
LOCATION:Jonathan Carver Moore\, 966 Market Street\, San Francisco\, 94102\, United States
CATEGORIES:Art Calendar
END:VEVENT
END:VCALENDAR