BEGIN:VCALENDAR
VERSION:2.0
PRODID:-//A LOVE LETTER TO ART - ECPv6.15.20//NONSGML v1.0//EN
CALSCALE:GREGORIAN
METHOD:PUBLISH
X-WR-CALNAME:A LOVE LETTER TO ART
X-ORIGINAL-URL:https://alovelettertoart.com
X-WR-CALDESC:Events for A LOVE LETTER TO ART
REFRESH-INTERVAL;VALUE=DURATION:PT1H
X-Robots-Tag:noindex
X-PUBLISHED-TTL:PT1H
BEGIN:VTIMEZONE
TZID:America/Los_Angeles
BEGIN:DAYLIGHT
TZOFFSETFROM:-0800
TZOFFSETTO:-0700
TZNAME:PDT
DTSTART:20220313T100000
END:DAYLIGHT
BEGIN:STANDARD
TZOFFSETFROM:-0700
TZOFFSETTO:-0800
TZNAME:PST
DTSTART:20221106T090000
END:STANDARD
BEGIN:DAYLIGHT
TZOFFSETFROM:-0800
TZOFFSETTO:-0700
TZNAME:PDT
DTSTART:20230312T100000
END:DAYLIGHT
BEGIN:STANDARD
TZOFFSETFROM:-0700
TZOFFSETTO:-0800
TZNAME:PST
DTSTART:20231105T090000
END:STANDARD
BEGIN:DAYLIGHT
TZOFFSETFROM:-0800
TZOFFSETTO:-0700
TZNAME:PDT
DTSTART:20240310T100000
END:DAYLIGHT
BEGIN:STANDARD
TZOFFSETFROM:-0700
TZOFFSETTO:-0800
TZNAME:PST
DTSTART:20241103T090000
END:STANDARD
BEGIN:DAYLIGHT
TZOFFSETFROM:-0800
TZOFFSETTO:-0700
TZNAME:PDT
DTSTART:20250309T100000
END:DAYLIGHT
BEGIN:STANDARD
TZOFFSETFROM:-0700
TZOFFSETTO:-0800
TZNAME:PST
DTSTART:20251102T090000
END:STANDARD
BEGIN:DAYLIGHT
TZOFFSETFROM:-0800
TZOFFSETTO:-0700
TZNAME:PDT
DTSTART:20260308T100000
END:DAYLIGHT
BEGIN:STANDARD
TZOFFSETFROM:-0700
TZOFFSETTO:-0800
TZNAME:PST
DTSTART:20261101T090000
END:STANDARD
BEGIN:DAYLIGHT
TZOFFSETFROM:-0800
TZOFFSETTO:-0700
TZNAME:PDT
DTSTART:20270314T100000
END:DAYLIGHT
BEGIN:STANDARD
TZOFFSETFROM:-0700
TZOFFSETTO:-0800
TZNAME:PST
DTSTART:20271107T090000
END:STANDARD
END:VTIMEZONE
BEGIN:VEVENT
DTSTART;VALUE=DATE:20260212
DTEND;VALUE=DATE:20260315
DTSTAMP:20260423T111440
CREATED:20260209T233713Z
LAST-MODIFIED:20260209T233713Z
UID:9599-1770854400-1773532799@alovelettertoart.com
SUMMARY:Art Calendar: Alvin Armstrong: Peer Pressure at Jonathan Carver Moore (SF Tenderloin) | Feb. 12–March 14\, 2026
DESCRIPTION:Alvin Armstrong: Peer Pressure | Feb. 12–March 14\, 2026\n\nEvent Details\nJonathan Carver Moore presents Alvin Armstrong: Peer Pressure\, a solo exhibition by the gallery’s fifth artist-in-residence\, opening February 12. A painter dedicated to honoring the beauty\, power\, and complexity of the Black American community\, Armstrong embraces the full spectrum of human experience—moving beyond narratives of trauma to foreground authenticity\, resilience\, and dignity in his work. \nEvent Dates & Hours \nAlvin Armstrong: Peer Pressure is on view at Jonathan Carver Moore (SF Tenderloin) from Feb. 12–March 14\, 2026. \n*The gallery is open Thursday and Friday 12:00 p.m.–6:00 pm.; Saturday 12:00 p.m.–4:00 p.m. and by appointment. 
URL:https://alovelettertoart.com/event/art-calendar-alvin-armstrong-peer-pressure-at-jonathan-carver-moore-sf-tenderloin-feb-12-march-14-2026/
LOCATION:Jonathan Carver Moore\, 966 Market Street\, San Francisco\, 94102\, United States
CATEGORIES:Art Calendar
END:VEVENT
BEGIN:VEVENT
DTSTART;VALUE=DATE:20260123
DTEND;VALUE=DATE:20260126
DTSTAMP:20260423T111440
CREATED:20260112T215438Z
LAST-MODIFIED:20260112T223625Z
UID:8756-1769126400-1769385599@alovelettertoart.com
SUMMARY:Art Calendar: Creativity Explored X Open Invitational ART FAIR (SF SoMa) | Jan. 23–25\, 2026 & Hung Kei Shiu: Color Field (SF Mission) | Jan. 15–Mar. 28\, 2026
DESCRIPTION:Art Calendar: Creativity Explored X Open Invitational ART FAIR | Jan. 23–25\, 2026\n\nEvent Details\nThe Creativity Explored X Open Invitational marks a new art fair in downtown San Francisco\, presented through a partnership between Creativity Explored and The Open Invitational\, centering artists with disabilities. FREE and open to the public\, the fair brings together progressive studios from across the country—offering individual funding to make participation accessible—and expands SF Art Week by spotlighting artists and artworks often excluded from the traditional art fair circuit\, igniting vital conversations about inclusion\, visibility\, and representation in contemporary art. \nEvent Dates & Hours \n*Admission is FREE to the Creativity Explored X Open Invitational art fair. It will take place at 215 Fremont Street from Jan. 23–25\, 2026. \nFriday\, January 23\, 2026: 11:00 a.m.–7:00 p.m. \nSaturday\, January 24\, 2026: 11:00 a.m.–7:00 p.m. \nSunday\, January 25\, 2026: 11:00 a.m.–5:00 p.m. \nCreativity Explored (3245 16th Street) Exhibitions \nUPCOMING: Hung Kei Shiu: Color Field from January 15–March 28\, 2026. Creativity Explored presents Hung Kei Shiu\, the artist’s first solo exhibition at the gallery\, featuring his signature abstract works built from layered dashes\, dots\, and color fields that create dense\, atmospheric compositions. A longtime member of the Creativity Explored community\, Shiu’s work is held in the permanent collection of the Oakland Museum of California and has been exhibited internationally. *Opening Reception is Thursday\, January 15 from 6:00 p.m.–8:00 p.m. \n*The gallery at Creativity Explored is open Thursday and Friday from 3:00 p.m.–6:00p.m.; Saturday 12:00 p.m.–5:00 p.m.
URL:https://alovelettertoart.com/event/art-calendar-creativity-explored-x-open-invitational-art-fair-sf-2026-hung-kei-shiu-color-field-jan-15-mar-28-2026/
LOCATION:215 Fremont Street\, 215 Fremont Street\, San Francisco\, 94105\, United States
CATEGORIES:Art Calendar
END:VEVENT
BEGIN:VEVENT
DTSTART;VALUE=DATE:20260122
DTEND;VALUE=DATE:20260126
DTSTAMP:20260423T111440
CREATED:20260123T194331Z
LAST-MODIFIED:20260123T194800Z
UID:9552-1769040000-1769385599@alovelettertoart.com
SUMMARY:Art Calendar: ATRIUM Art Fair at Minnesota Street Project (SF Dogpatch)\, Jan. 22–25\, 2026
DESCRIPTION:ATRIUM Art Fair | Jan. 22–25\, 2026\n\nEvent Details\nATRIUM debuts as a new alternative art fair at Minnesota Street Project\, spotlighting small\, emerging\, and underground contemporary galleries from across the San Francisco Bay Area. Timed to coincide with SF Art Week\, the fair takes place January 22–25\, 2026 at MSP’s flagship Dogpatch campus. \nFree and open to the public\, ATRIUM offers an approachable entry point into the region’s gallery ecosystem\, inviting visitors to engage directly with artists and gallerists in a welcoming\, non-intimidating setting. Rooted in Minnesota Street Project’s mission to support independent art spaces\, the fair emphasizes accessibility\, experimentation\, and community—while making the experience of discovering and collecting contemporary art feel inclusive and attainable. \nFeaturing presentations from 15+ Bay Area galleries\, ATRIUM reflects the breadth of contemporary practice in the region\, from established artist-run spaces to newer\, more experimental programs. \nEvent Dates\, Hours\, & Admission \nThursday\, January 22 from 6:00 p.m.–9:00 p.m. *Opening Reception \nFriday and Saturday\, January 23–24 from 11:00 a.m.–6:00 p.m \nSunday\, January 25\, 2026: 11:00 a.m.–5:00 p.m. \nRSVP for your FREE tickers HERE.
URL:https://alovelettertoart.com/event/art-calendar-atrium-art-fair-at-minnesota-street-project-sf-dogpatch-jan-22-25-2026/
LOCATION:Minnesota Street Project\, 1275 Minnesota Street\, San Francisco\, 94107\, United States
CATEGORIES:Art Calendar
END:VEVENT
BEGIN:VEVENT
DTSTART;VALUE=DATE:20260122
DTEND;VALUE=DATE:20260126
DTSTAMP:20260423T111440
CREATED:20260115T170238Z
LAST-MODIFIED:20260115T170238Z
UID:9420-1769040000-1769385599@alovelettertoart.com
SUMMARY:Art Calendar: FOG Design+Art Fair (SF Fort Mason)\, Jan. 22–25\, 2026
DESCRIPTION:Art Calendar: FOG Design+Art Fair | Jan. 22–25\, 2026\n\nEvent Details\nFOG Design+Art Fair returns to Fort Mason Center for Arts & Culture for its 12th edition\, activating Piers 2 and 3 with a dynamic program of installations\, talks\, and community-driven experiences. Highlights include the expanded FOG Talks in Pier 3’s FOG Theatre—featuring leading voices across art\, design\, architecture\, and technology—alongside FOG FOCUS\, which spotlights emerging artists through installations and accessible works\, including a participatory storefront project by Jasko Begovic (Sko Habibi. Also featured in Cult Aimee Friberg’s upcoming THE VEIL BETWEEN opening Jan. 16\, 2026. See his work from SFMOMA’s Get in the Game HERE). \nThe fair also offers FOG Family Days with hands-on art-making for children\, FOG MRKT showcasing distinctive vendors and makers\, and new pop-ups such as The Stout Bookmobile and Loquat café\, plus returning favorites like A16\, Park Life\, and the FOG Lounge\, making FOG Design+Art a lively\, multi-sensory anchor of San Francisco’s art calendar. \nEvent Dates\, Hours\, & Admission \nThursday\, January 22–Saturday\, January 24\, 2026: 11:00 a.m.–7:00 p.m \nSunday\, January 25\, 2026: 11:00 a.m.–5:00 p.m. \n*FOG Design+Art offers two general-admission ticket options: A SINGLE DAY TICKET or a FOUR-DAY FAIR PASS. Tickets to the fair include entry to both FOG Design+Art and FOG FOCUS\, as well as access to FOG Talks\, which feature dynamic conversations with leaders across the fields of art\, design\, and technology. \nSingle-day tickets are $35 in advance and $40 after January 21\, 2026 (plus fees). Four-day tickets are $95 in advance and $100 after January 21\, 2026 (plus fees). Purchase tickets HERE.
URL:https://alovelettertoart.com/event/art-calendar-fog-designart-fair-sf-fort-mason-jan-22-25-2026/
LOCATION:Fort Mason Center for the Arts\, 2 Marina Blvd.\, San Francisco\, 94123\, United States
CATEGORIES:Art Calendar
END:VEVENT
BEGIN:VEVENT
DTSTART;VALUE=DATE:20260110
DTEND;VALUE=DATE:20260301
DTSTAMP:20260423T111440
CREATED:20260209T194352Z
LAST-MODIFIED:20260209T233923Z
UID:9593-1768003200-1772323199@alovelettertoart.com
SUMMARY:Art Calendar: Guanyu xu: I dreamt of this and there will be more at re.riddle (SF Minnesota Street Project) | Jan. 10–Feb. 28\, 2026
DESCRIPTION:Guanyu xu: I dreamt of this and there will be more | Jan. 10–Feb. 28\, 2026\n\nEvent Details\nI dreamt of this and there will be more marks Guanyu Xu’s debut solo exhibition at re.riddle\, featuring photographic works that examine how bodies—particularly queer and immigrant bodies—are shaped\, regulated\, and made legible through architecture\, geography\, and systems of power. Moving between public and private spaces\, Xu explores borders both external and internal\, revealing how intimacy\, identity\, and belonging are negotiated within landscapes marked by surveillance\, law\, and desire. \nEvent Dates & Hours \nGuanyu xu: I dreamt of this and there will be more is on view at re.riddle (SF Minnesota Street Project) from January 10–February 28\, 2026. \n*The gallery is open Tuesday–Saturday 11:00 a.m.–5:00p.m.
URL:https://alovelettertoart.com/event/art-calendar-guanyu-xu-i-dreamt-of-this-and-there-will-be-more-at-re-riddle-sf-minnesota-street-project-jan-10-feb-28-2026/
LOCATION:re.riddle\, 1275 Minnesota Street\, 2nd Floor\, San Francisco\, CA\, 94107\, United States
CATEGORIES:Art Calendar
END:VEVENT
BEGIN:VEVENT
DTSTART;VALUE=DATE:20251107
DTEND;VALUE=DATE:20251231
DTSTAMP:20260423T111440
CREATED:20251031T164810Z
LAST-MODIFIED:20251031T165150Z
UID:8854-1762473600-1767139199@alovelettertoart.com
SUMMARY:Art Calendar: L. Song Wu: Feast at Johansson Projects (Oakland) | Nov. 7–Dec. 31\, 2025
DESCRIPTION:L. Song Wu: Feast | Nov. 7–Dec. 31\, 2025\n\nEvent Details\nFeast at Johansson Projects is a solo exhibition by L. Song Wu that unfolds like an Italian full-course meal\, exploring the sensual\, performative\, and unsettling nature of eating and consumption. Each painting evokes the exaggerated intimacy of mukbang videos—overflowing with surreal abundance\, absurd beauty\, and emotional detachment. Drawing from Wu’s cross-cultural experiences across the U.S.\, China\, and Italy\, the works reflect how food\, desire\, and identity intertwine through race\, gender\, and class. At once seductive and grotesque\, Feast invites viewers to consider what it means to consume—and to be consumed—in a world of endless appetites. \nEvent Dates & Hours \nFeast is on view at Johansson Projects (Oakland) from November 8–December 31\, 2025. *Opening on evening of November 7\, 2025. \n*The gallery is open Thursday–Saturday from 1:00 p.m.–5:00p.m.
URL:https://alovelettertoart.com/event/art-calendar-l-song-wu-feast-at-johansson-projects-oakland-nov-7-dec-31-2025/
LOCATION:Johansson Projects\, 2300 Telegraph Ave\, Oakland\, CA\, 94612\, United States
CATEGORIES:Art Calendar
END:VEVENT
BEGIN:VEVENT
DTSTART;VALUE=DATE:20251011
DTEND;VALUE=DATE:20260302
DTSTAMP:20260423T111440
CREATED:20260209T192325Z
LAST-MODIFIED:20260209T192511Z
UID:9583-1760140800-1772409599@alovelettertoart.com
SUMMARY:Art Calendar: Manet & Morisot at Legion of Honor (SF Lincoln Park) | Oct. 11\, 2025–March 1\, 2026
DESCRIPTION:Manet & Morisot  | Oct. 11\, 2025–March 1\, 2026\n\nExhibition Details\nManet & Morisot is the first major museum exhibition devoted to the formative friendship and artistic exchange between Édouard Manet and Berthe Morisot\, the only female founding member of the Impressionist group. Presented through closely paired works\, the show reframes Morisot not as a muse\, but as an equal whose evolving style deeply influenced Manet and helped shape the course of modern art. \nExhibition Dates\, Hours\, Admission\, Discounts \nManet & Morisot is on view at the Legion of Honor (SF Lincoln Park) from Oct. 11\, 2025–March 1\, 2026. \n⭐ LEGION OF HONOR HOURS: Open Tuesday–Sunday 9:30 a.m.–5:15 p.m. CLOSED MONDAY. \n⭐ LEGION OF HONOR ADMISSION:  \n\nGeneral Admission Adults $20 (includes same-day GA entry to de Young Museum)\nSeniors 65+ $17\nStudents (w/ID) $11\n17 & Under FREE.\n*SPECIAL EXHIBITIONS +$15 (Includes access to permanent collections)\n**Membership (includes de Young Museum) starts at $129\n\n⭐ LEGION OF HONOR DISCOUNTS (FREE GA): \n\nFree Satudays for Bay Area Residents (w/ID or postmarked envelope)\nFree First Tuesdays of the Month\nDiscover and Go (Free w/library card—may not apply to all counties)\nSF Museums for All (show your EBT or Medi-Cal card/ID)\nPublic Transportation Discount (receive a $2 discount w/proof of receipt)\nFree Admission to all exhibitions w/Sotheby’s Preferred Membership.\n*THE PERMANENT COLLECTION IS FREE TO VISIT AT 4:30 p.m.\n\n\n⭐ LEGION OF HONOR DINING: Legion of Honor Café. American and European classic cuisine. Indoor and outdoor dining. Legion of Honor Café. Open Tuesday–Sunday from 9:30 a.m.–4:30 p.m. *Lunch is served from 11:00 a.m.–3:30 p.m.
URL:https://alovelettertoart.com/event/art-calendar-manet-morisot-at-legion-of-honor-sf-lincoln-park-oct-11-2025-march-1-2026/
LOCATION:Legion of Honor\, 100 34th Avenue\, San Francisco\, 94121\, United States
CATEGORIES:Art Calendar
END:VEVENT
BEGIN:VEVENT
DTSTART;VALUE=DATE:20251009
DTEND;VALUE=DATE:20251221
DTSTAMP:20260423T111440
CREATED:20251024T194201Z
LAST-MODIFIED:20251024T194201Z
UID:8772-1759968000-1766275199@alovelettertoart.com
SUMMARY:Art Calendar: Auudi Dorsey: What’s Left\, Never Left at Jonathan Carver Moore (Tenderloin SF) | Oct. 9–Dec. 20\, 2025
DESCRIPTION:Auudi Dorsey: What’s Left\, Never Left | Oct. 9–Dec. 20\, 2025\n\nEvent Details\nJonathan Carver Moore’s What’s Left\, Never Left\, is a solo exhibition by New Orleans-based artist Auudi Dorsey\, featuring a powerful new body of work created during his six-week residency at the gallery. Expanding on his research into the intertwined histories of African American communities and water\, Dorsey’s largest paintings to date reimagine lost leisure spaces that once fostered joy\, resilience\, and belonging. Drawing from archival photographs\, his work centers the experiences of African women and reflects on the generational loss of swimming traditions—challenging narratives that distance Black communities from aquatic life. Through a deeply intuitive\, Southern-rooted visual language\, What’s Left\, Never Left offers a moving meditation on memory\, reclamation\, and cultural empowerment.. \nEvent Dates & Hours \nAuudi Dorsey: What’s Left\, Never Left is on view at Jonathan Carver Moore (Tenderloin SF) from October 9–December 20\, 2025. \n*The gallery is open Thursday and Friday 12:00 p.m.–6:00 pm.; Saturday 12:00 p.m.–4:00 p.m. and by appointment. 
URL:https://alovelettertoart.com/event/art-calendar-auudi-dorsey-whats-left-never-left-at-jonathan-carver-moore-tenderloin-sf-oct-9-dec-20-2025/
LOCATION:Jonathan Carver Moore\, 966 Market Street\, San Francisco\, 94102\, United States
CATEGORIES:Art Calendar
END:VEVENT
BEGIN:VEVENT
DTSTART;VALUE=DATE:20251004
DTEND;VALUE=DATE:20251221
DTSTAMP:20260423T111440
CREATED:20251024T183924Z
LAST-MODIFIED:20251109T171033Z
UID:8760-1759536000-1766275199@alovelettertoart.com
SUMMARY:Art Calendar: Pegan Brooke: Into absence\, MIST at re.riddle (Minnesota Street Project SF) | Oct. 4–Dec. 20\, 2025
DESCRIPTION:Pegan Brooke: Into absence\, MIST | Oct. 4–Dec. 20\, 2025\n\nEvent Details\nInto absence\, MIST is a solo exhibition by artist Pegan Brooke exploring what remains in the quiet space after loss. Using mist as both metaphor and medium\, Brooke’s monochromatic\, layered paintings evoke the ethereal threshold between presence and absence—where light\, air\, and matter blur. Through subtle shifts of tone and delicate\, reflective brushwork\, her works transform the experience of looking into one of perception and renewal\, inviting viewers to dwell in the open\, shimmering terrain where something new begins to emerge. \nEvent Dates & Hours \nPegan Brooke: Into absence\, MIST is on view at re.riddle (Minnesota Street Project) from October 4–December 20\, 2025. \n*The gallery is open Tuesday–Saturday 11:00 a.m.–5:00p.m.
URL:https://alovelettertoart.com/event/art-calendar-pegan-brooke-into-absence-mist-at-re-riddle-minnesota-street-project-sf-oct-4-dec-20-2025/
LOCATION:re.riddle\, 1275 Minnesota Street\, 2nd Floor\, San Francisco\, CA\, 94107\, United States
CATEGORIES:Art Calendar
END:VEVENT
BEGIN:VEVENT
DTSTART;VALUE=DATE:20250608
DTEND;VALUE=DATE:20251201
DTSTAMP:20260423T111440
CREATED:20251023T184724Z
LAST-MODIFIED:20251027T132053Z
UID:8741-1749340800-1764547199@alovelettertoart.com
SUMMARY:Art Calendar: Routed West: Twentieth-Century African American Quilts in California at BAMPFA (Berkeley) | June 8–Nov. 30\, 2025
DESCRIPTION:Routed West: Twentieth-Century African American Quilts in California | June 8–Nov. 30\, 2025\n\nEvent Details\nRouted West: Twentieth-Century African American Quilts in California at BAMPFA traces how African American quiltmaking traditions migrated and blossomed in the West during the Second Great Migration (1940–1970). Featuring one hundred quilts by nearly eighty artists—many with Bay Area ties—the exhibition celebrates the artistry\, heritage\, and resilience embedded in these textiles\, honoring generations of makers who transformed everyday materials into carriers of memory\, beauty\, and cultural legacy. \nEvent Dates\, Hours\, Admission & Discounts \nRouted West: Twentieth-Century African American Quilts in California is on view at BAMPFA (Downtown Berkeley) from June 8–November 30\, 2025. \n⭐ HOURS: Open Wednesday–Sunday 11:00 a.m.–7:00 p.m.  \n⭐ MUSEUM ADMISSION: \n\n\nGeneral Admission Tickets Adults $18\nSeniors 65+\, College Students (non-UC Berkeley)\, UC Berkeley alumni and retirees\, Visitors w/Disabilities\, Military Personnel $12.\nGroup Visits/Tours $9 (reserve in advance)\nAges 14–18 $5\nAges 0–13 FREE\nMembership starts at $40\n\n\n⭐ MUSEUM DISCOUNTS (FREE GA): \n\n\nFREE FIRST THURSDAYS.\nUC Berkeley students\, faculty\, and staff\nMuseums for All (show your SNAP card/ID)\nHofmann Circle\, Leadership Board\, Director’s Cabinet\, and Curator’s Circle members\nMATRIX artists and BAMPFA Collection artists\n\n\nQUICK GUIDE: Berkeley Art Museum and Pacific Film Archive (BAMPFA)
URL:https://alovelettertoart.com/event/art-calendar-routed-west-twentieth-century-african-american-quilts-in-california-at-bampfa-berkeley-june-8-nov-30-2025/
LOCATION:BAMPFA\, 2155 Center Street\, Berkeley\, CA\, 94720\, United States
CATEGORIES:Art Calendar
END:VEVENT
BEGIN:VEVENT
DTSTART;VALUE=DATE:20250123
DTEND;VALUE=DATE:20250412
DTSTAMP:20260423T111440
CREATED:20250327T173936Z
LAST-MODIFIED:20250327T173936Z
UID:7530-1737590400-1744415999@alovelettertoart.com
SUMMARY:re.riddle's MATERIAL CONTINUUM - Saint Joseph's Arts Society - San Francisco (SoMa)
DESCRIPTION:test for calendar
URL:https://alovelettertoart.com/event/re-riddles-material-continuum-saint-josephs-arts-society-san-francisco-soma/
END:VEVENT
BEGIN:VEVENT
DTSTART;VALUE=DATE:20230713
DTEND;VALUE=DATE:20230714
DTSTAMP:20260423T111440
CREATED:20230713T044127Z
LAST-MODIFIED:20230713T045204Z
UID:2315-1689206400-1689292799@alovelettertoart.com
SUMMARY:test
DESCRIPTION:‘;dl’la’;la’lda;ldak;ld;a
URL:https://alovelettertoart.com/event/test/
LOCATION:myhouse\, ONE EMBARCADERO CENTER\, SUITE 750\, SAN FRANCISCO\, CA\, 94111\, United States
END:VEVENT
END:VCALENDAR