BEGIN:VCALENDAR
VERSION:2.0
PRODID:-//A LOVE LETTER TO ART - ECPv6.15.20//NONSGML v1.0//EN
CALSCALE:GREGORIAN
METHOD:PUBLISH
X-ORIGINAL-URL:https://alovelettertoart.com
X-WR-CALDESC:Events for A LOVE LETTER TO ART
REFRESH-INTERVAL;VALUE=DURATION:PT1H
X-Robots-Tag:noindex
X-PUBLISHED-TTL:PT1H
BEGIN:VTIMEZONE
TZID:America/Los_Angeles
BEGIN:DAYLIGHT
TZOFFSETFROM:-0800
TZOFFSETTO:-0700
TZNAME:PDT
DTSTART:20240310T100000
END:DAYLIGHT
BEGIN:STANDARD
TZOFFSETFROM:-0700
TZOFFSETTO:-0800
TZNAME:PST
DTSTART:20241103T090000
END:STANDARD
BEGIN:DAYLIGHT
TZOFFSETFROM:-0800
TZOFFSETTO:-0700
TZNAME:PDT
DTSTART:20250309T100000
END:DAYLIGHT
BEGIN:STANDARD
TZOFFSETFROM:-0700
TZOFFSETTO:-0800
TZNAME:PST
DTSTART:20251102T090000
END:STANDARD
BEGIN:DAYLIGHT
TZOFFSETFROM:-0800
TZOFFSETTO:-0700
TZNAME:PDT
DTSTART:20260308T100000
END:DAYLIGHT
BEGIN:STANDARD
TZOFFSETFROM:-0700
TZOFFSETTO:-0800
TZNAME:PST
DTSTART:20261101T090000
END:STANDARD
END:VTIMEZONE
BEGIN:VEVENT
DTSTART;VALUE=DATE:20251009
DTEND;VALUE=DATE:20251221
DTSTAMP:20260424T040042
CREATED:20251024T194201Z
LAST-MODIFIED:20251024T194201Z
UID:8772-1759968000-1766275199@alovelettertoart.com
SUMMARY:Art Calendar: Auudi Dorsey: What’s Left\, Never Left at Jonathan Carver Moore (Tenderloin SF) | Oct. 9–Dec. 20\, 2025
DESCRIPTION:Auudi Dorsey: What’s Left\, Never Left | Oct. 9–Dec. 20\, 2025\n\nEvent Details\nJonathan Carver Moore’s What’s Left\, Never Left\, is a solo exhibition by New Orleans-based artist Auudi Dorsey\, featuring a powerful new body of work created during his six-week residency at the gallery. Expanding on his research into the intertwined histories of African American communities and water\, Dorsey’s largest paintings to date reimagine lost leisure spaces that once fostered joy\, resilience\, and belonging. Drawing from archival photographs\, his work centers the experiences of African women and reflects on the generational loss of swimming traditions—challenging narratives that distance Black communities from aquatic life. Through a deeply intuitive\, Southern-rooted visual language\, What’s Left\, Never Left offers a moving meditation on memory\, reclamation\, and cultural empowerment.. \nEvent Dates & Hours \nAuudi Dorsey: What’s Left\, Never Left is on view at Jonathan Carver Moore (Tenderloin SF) from October 9–December 20\, 2025. \n*The gallery is open Thursday and Friday 12:00 p.m.–6:00 pm.; Saturday 12:00 p.m.–4:00 p.m. and by appointment. 
URL:https://alovelettertoart.com/event/art-calendar-auudi-dorsey-whats-left-never-left-at-jonathan-carver-moore-tenderloin-sf-oct-9-dec-20-2025/
LOCATION:Jonathan Carver Moore\, 966 Market Street\, San Francisco\, 94102\, United States
CATEGORIES:Art Calendar
END:VEVENT
END:VCALENDAR