BEGIN:VCALENDAR
VERSION:2.0
PRODID:-//A LOVE LETTER TO ART - ECPv6.15.20//NONSGML v1.0//EN
CALSCALE:GREGORIAN
METHOD:PUBLISH
X-ORIGINAL-URL:https://alovelettertoart.com
X-WR-CALDESC:Events for A LOVE LETTER TO ART
REFRESH-INTERVAL;VALUE=DURATION:PT1H
X-Robots-Tag:noindex
X-PUBLISHED-TTL:PT1H
BEGIN:VTIMEZONE
TZID:America/Los_Angeles
BEGIN:DAYLIGHT
TZOFFSETFROM:-0800
TZOFFSETTO:-0700
TZNAME:PDT
DTSTART:20240310T100000
END:DAYLIGHT
BEGIN:STANDARD
TZOFFSETFROM:-0700
TZOFFSETTO:-0800
TZNAME:PST
DTSTART:20241103T090000
END:STANDARD
BEGIN:DAYLIGHT
TZOFFSETFROM:-0800
TZOFFSETTO:-0700
TZNAME:PDT
DTSTART:20250309T100000
END:DAYLIGHT
BEGIN:STANDARD
TZOFFSETFROM:-0700
TZOFFSETTO:-0800
TZNAME:PST
DTSTART:20251102T090000
END:STANDARD
BEGIN:DAYLIGHT
TZOFFSETFROM:-0800
TZOFFSETTO:-0700
TZNAME:PDT
DTSTART:20260308T100000
END:DAYLIGHT
BEGIN:STANDARD
TZOFFSETFROM:-0700
TZOFFSETTO:-0800
TZNAME:PST
DTSTART:20261101T090000
END:STANDARD
BEGIN:DAYLIGHT
TZOFFSETFROM:-0800
TZOFFSETTO:-0700
TZNAME:PDT
DTSTART:20270314T100000
END:DAYLIGHT
BEGIN:STANDARD
TZOFFSETFROM:-0700
TZOFFSETTO:-0800
TZNAME:PST
DTSTART:20271107T090000
END:STANDARD
END:VTIMEZONE
BEGIN:VEVENT
DTSTART;VALUE=DATE:20251115
DTEND;VALUE=DATE:20260504
DTSTAMP:20260423T113324
CREATED:20251109T210224Z
LAST-MODIFIED:20260209T192638Z
UID:8958-1763164800-1777852799@alovelettertoart.com
SUMMARY:Art Calendar: KAWS: FAMILY at SFMOMA (SF SoMa) | Nov. 15\, 2025–May 3\, 2026
DESCRIPTION:KAWS: FAMILY | Nov. 15\, 2025–May 3\, 2026\n\nExhibition Details\nSFMOMA’s KAWS: FAMILY marks the artist’s first major West Coast museum exhibition\, showcasing three decades of his (Brian Donnelly) distinctive\, emotionally resonant work. Featuring paintings\, drawings\, sculptures\, and iconic character-based pieces drawn from pop culture\, the show highlights KAWS’s ability to blend playfulness with poignancy. At its center is FAMILY (2021)\, a monumental bronze sculpture of his beloved figures—COMPANION\, BFF\, and CHUM—depicted as a tender family unit\, inviting viewers to reflect on themes of connection\, vulnerability\, and shared humanity. \nExhibition Dates\, Hours\, Admission\, Discounts \nKAWS: FAMILY  is on view at SFMOMA (SoMa SF) from Nov. 15\, 2025–May 3\, 2026. *Members’ Opening Reception: Friday\, Nov. 14\, 7:00–10:00 p.m. \n⭐ SFMOMA HOURS: Open Monday–Tuesday 10:00 a.m.–5:00 p.m. CLOSED WEDNESDAY. Thursday 12:00-8:00 p.m.; Friday–Sunday 10:00 a.m.–5:00 p.m.  \n⭐ SFMOMA ADMISSION: \n\n\nGeneral Admission Tickets Adults $30\nSeniors 60+ $25\nAges 19-24 $23\n18 and under FREE\n*SPECIAL EXHIBITIONS + $15 (Includes access to permanent collections)\nMembership starts at $130 GA/$110 Senior/$90 Working Artist\n\n\n⭐ SFMOMA DISCOUNTS (FREE GA): \n\n\nFREE FIRST THURSDAYS (Residents of the 9 Bay Area Counties)\nFREE FAMILY DAYS (up to 4 adults accompanying one child)\nFREE COMMUNITY DAYS\nDiscover & Go (Free w/library card – may not apply to all counties)\nSF Museums for All (show your EBT or Medi-Cal card/ID)\nSF Unified Free Staff Admission (at show proof of employment/ID – reserve in-person\, not available online)\nBlue Star Museum Discount (FREE Admission to U.S. military personnel and veterans plus up to 5 family members from the 3rd Sat in May until the 1st Monday in Sept.)\nFree General Admission + Guest w/ Sotheby’s Preferred Membership.\nFree General Admission + Guest for SFMOMA corporate partners.\n\n⭐ SFMOMA DINING (*MEMBERS RECEIVE A 10% DISCOUNT): \n\n\nSteps Coffee (2nd floor) is open Fri-Tues 9:30–4:30 p.m.; Thurs 11:00–6:00 p.m.\nCafe 5 (5th floor) is open Fri-Tues 10:30–4:00 p.m.; Thurs 12:00–7:30 p.m. (*Thursday Happy Hour 4:30–7:00 p.m. Includes $6 and $11 beer/wine\, cocktails\, and a selection of bites.)\nJane on Third (street level) Amanda Michael’s local cafe chain named for her daughter\, serves housemade baked goods\, breakfast\, sandwiches\, and salads—perfect for a quick snack or leisurely lunch. Open to the public\, MUSEUM ADMISSION NOT REQUIRED. Hours: Mon.–Fri. 9:00–5:00 p.m.; Sat.–Sun. 10:00–5:00 p.m.\n\n\nQUICK GUIDE: Berkeley Art Museum and Pacific Film Archive (BAMPFA)\n\nQUICK GUIDE: Berkeley Art Museum and Pacific Film Archive (BAMPFA)
URL:https://alovelettertoart.com/event/art-calendar-kaws-family-at-sfmoma-soma-sf-nov-15-2025-may-3-2026/
LOCATION:SFMOMA\, 151 Third Street\, San Francisco\, CA\, 94103\, United States
CATEGORIES:Art Calendar
END:VEVENT
BEGIN:VEVENT
DTSTART;VALUE=DATE:20260313
DTEND;VALUE=DATE:20260824
DTSTAMP:20260423T113324
CREATED:20260323T174348Z
LAST-MODIFIED:20260323T174348Z
UID:9735-1773360000-1787529599@alovelettertoart.com
SUMMARY:Art Calendar: Diedrick Brackens: gather tender night & Conjuring Power: Roots & Futures of Queer & Trans Movements (SF SoMa) | March 13–Aug. 23\, 2026
DESCRIPTION:Exhibition Details\nDiedrick Brackens: gather tender night | March 13–Aug. 23\, 2026\nYBCA’s  Diedrick Brackens: gather tender night marks the artist’s first Bay Area solo exhibition\, featuring handwoven works that explore tenderness\, migration\, and the natural world. Created with hand-dyed cotton and acrylic yarn\, Diedrick Brackens’s richly layered textiles depict intimate scenes of figures in lush landscapes\, reflecting on queer presence\, desire\, and belonging. Organized by guest curator Eungie Joo\, the exhibition also debuts new works centered on ideas of home\, rest\, and care. \nConjuring Power: Roots & Futures of Queer & Trans Movements | March 13–Aug. 23\, 2026\nYBCA’s Conjuring Power is a multimedia exhibition celebrating the resilience\, creativity\, and cultural legacy of Bay Area queer and trans communities. Featuring murals\, archival photography\, and contemporary video work\, the show brings together artists including Ester Hernández and Serge Gay Jr. alongside materials from the GLBT Historical Society\, tracing a powerful continuum of community\, resistance\, and imagination across generations. Co-curated by Tina V. Aguirre and Caro De Robertis. \nExhibition Dates\, Hours\, Admission\, Discounts\, & Recap \nDiedrick Brackens: gather tender night and Conjuring Power: Roots & Futures of Queer & Trans Movements is on view at YBCA (SoMa SF) from March 13–Aug. 23\, 2026 \n⭐ HOURS: Open Wednesday–Sunday 11:00 a.m.–5:00 p.m.  \n⭐ MUSEUM ADMISSION: \n\n\nGeneral Admission Tickets Adults $10\nStudents and Seniors $5\nYouth 17 and under FREE\nMembership starts at $165\n\n\n⭐ MUSEUM DISCOUNTS (FREE GA): \n\n\nFREE WEDNESDAYS & 2ND SUNDAYS\nMuseums for All (show your EBT or Medi-Cal card/ID)\nFREE Admission for Military Personnel\nFREE Admission for Museum employees + 1 guest w/current valid staff ID\n\n\nQUICK GUIDE: Berkeley Art Museum and Pacific Film Archive (BAMPFA)
URL:https://alovelettertoart.com/event/art-calendar-diedrick-brackens-gather-tender-night-conjuring-power-roots-futures-of-queer-trans-movements-sf-soma-march-13-aug-23-2026/
LOCATION:YBCA\, 701 Mission St\, San Francisco\, 94103\, United States
CATEGORIES:Art Calendar
END:VEVENT
BEGIN:VEVENT
DTSTART;VALUE=DATE:20260321
DTEND;VALUE=DATE:20260717
DTSTAMP:20260423T113324
CREATED:20260323T154839Z
LAST-MODIFIED:20260323T154839Z
UID:9726-1774051200-1784246399@alovelettertoart.com
SUMMARY:Art Calendar: Monet and Venice at de Young Museum (SF Golden Gate Park) | March 21–July 26\, 2026
DESCRIPTION:Monet & Venice  | March 21–July 26\, 2026\n\nExhibition Details\nMonet and Venice at the de Young Museum reunites more than 20 of Claude Monet’s luminous paintings of the Italian city—his first and only visit to Venice—alongside works from across his career\, including the iconic Water Lilies. Presented with paintings by artists such as J. M. W. Turner and John Singer Sargent\, the exhibition explores Venice as both subject and enduring source of artistic inspiration. \nExhibition Dates\, Hours\, Admission\, Discounts \nMonet and Venice is on view at the de Young Museum (SF Golden Gate Park) from March 21–July 26\, 2026. \n⭐ DE YOUNG MUSEUM HOURS: Open Tuesday–Sunday 9:30 a.m.–5:15 p.m. CLOSED MONDAY. \n⭐ DE YOUNG MUSEUM ADMISSION:  \n\nGeneral Admission Adults $20 (includes same-day GA entry to Legion of Honor Museum)\nSeniors 65+ $17\nStudents (w/ID) $11\n17 & Under FREE.\n*SPECIAL EXHIBITIONS +$20 (Includes access to permanent collections)\n**Membership (includes Legion of Honor Museum) starts at $129\n\n⭐ DE YOUNG MUSEUM DISCOUNTS (FREE GA): \n\nFree Satudays for Bay Area Residents (w/ID or postmarked envelope)\nFree First Tuesdays of the Month\nFree GA and Discounted Special Exhibitions for Active Military and Veterans (w/ID)\nDiscover and Go (Free w/library card—may not apply to all counties)\nSF Museums for All (show your EBT or Medi-Cal card/ID)\nPublic Transportation Discount (receive a $3 discount w/proof of receipt)\nFree Admission to all exhibitions w/Sotheby’s Preferred Membership.\n*THE PERMANENT COLLECTION IS FREE TO VISIT AT 4:30 p.m.\n\n\n⭐ DE YOUNG MUSEUM DINING: de Young Café. American and European classic cuisine. Indoor and outdoor dining (w/weather permitting on the Barbro Osher Sculpture Garden Terrace). Open Tuesday–Sunday 9:30 a.m.–4:30 p.m.
URL:https://alovelettertoart.com/event/art-calendar-monet-and-venice-at-de-young-museum-sf-golden-gate-park-march-21-july-26-2026/
LOCATION:de Young Museum\, 50 Hagiwara Tea Garden Drive\, San Francisco\, 94118\, United States
CATEGORIES:Art Calendar
END:VEVENT
BEGIN:VEVENT
DTSTART;VALUE=DATE:20260411
DTEND;VALUE=DATE:20260627
DTSTAMP:20260423T113324
CREATED:20260410T181236Z
LAST-MODIFIED:20260410T181418Z
UID:9830-1775865600-1782518399@alovelettertoart.com
SUMMARY:Art Calendar: Convergence at NIAD Art Center (Richmond) | April 11–June 26\, 2026
DESCRIPTION:Convergence | April 11–June 26\, 2026\nEvent Details\nConvergence at NIAD Art Center explores how ideas cross-pollinate within the studio community\, bringing together works by 45 NIAD staff members and studio artists across painting\, printmaking\, sculpture\, fiber\, performance\, and sound. \nThe exhibition reflects how creative exchange grows through daily conversation\, shared observation\, and collaborative care\, highlighting both artistic practice and the caregiving labor that sustains the NIAD community. \nTogether\, the works form a portrait of an interconnected\, evolving studio shaped by mutual support\, inspiration\, and creative osmosis. \nFeatured Artists:\nHacer Acma\, Ember Avalos\, Camila de Andrade Bianchi\, Deatra Colbert\, Matt Dostal\, Jake Ellis\, Ofra Fisher\, Sylvia Fragoso\, Felicia Griffin\, Shana Harper\, James Heartsill\, Leticia Javier\, Kate Laster\, Michael Nuñez\, Jam\, Shantanice Swain\, Jonathan Velazquez\, Xiomara Rosales\, Christian Vassell\, Nakiesha White\, Maria Radilla\, Sara Malpass\, Heather Hamann\, Karen May\, Colin McAllister\, Aileen McCourt\, Tara Neuffer\, Dawline Jane Oni-Eseleh\, Joshua Solis\, Donzell Lewis\, Kieren Dutcher\, Maggie Preston\, Steen Kjorlie\, Ocean Escalanti\, Liliana Torpey\, Tiara Amar\, Bill Zindel\, Shawn Sanders\, Mat Van Dongen\, Leticia Javier\, Jovi Vidal. \nEvent Dates & Hours \nConvergence is on view at NIAD (Richmond) from April 11–June 26\, 2026. \nOpening Reception: Saturday\, April 11\, 2026 from 1:00 p.m.–4:00 p.m.\, with an artist walkthrough at 2:00 p.m. (free and open to the public). \n*The gallery is open Monday–Friday from 10:00 a.m.–4:00p.m.; Second Saturdays 1:00 p.m.–4:00 p.m.; *Other Satudays by Appointment  \nNIAD Art Center is an art and disability organization in Richmond\, California. Here in our online gallery and store you can view and purchase all of the available work of NIAD Art Center studio artists. 50% of all sales go directly to the artists.
URL:https://alovelettertoart.com/event/art-calendar-convergence-at-niad-art-center-richmond-april-11-june-26-2026/
LOCATION:NIAD Art Center\, 551 23rd Street\, Richmond\, 94804\, United States
CATEGORIES:Art Calendar
END:VEVENT
END:VCALENDAR