BEGIN:VCALENDAR
VERSION:2.0
PRODID:-//A LOVE LETTER TO ART - ECPv6.15.20//NONSGML v1.0//EN
CALSCALE:GREGORIAN
METHOD:PUBLISH
X-ORIGINAL-URL:https://alovelettertoart.com
X-WR-CALDESC:Events for A LOVE LETTER TO ART
REFRESH-INTERVAL;VALUE=DURATION:PT1H
X-Robots-Tag:noindex
X-PUBLISHED-TTL:PT1H
BEGIN:VTIMEZONE
TZID:America/Los_Angeles
BEGIN:DAYLIGHT
TZOFFSETFROM:-0800
TZOFFSETTO:-0700
TZNAME:PDT
DTSTART:20240310T100000
END:DAYLIGHT
BEGIN:STANDARD
TZOFFSETFROM:-0700
TZOFFSETTO:-0800
TZNAME:PST
DTSTART:20241103T090000
END:STANDARD
BEGIN:DAYLIGHT
TZOFFSETFROM:-0800
TZOFFSETTO:-0700
TZNAME:PDT
DTSTART:20250309T100000
END:DAYLIGHT
BEGIN:STANDARD
TZOFFSETFROM:-0700
TZOFFSETTO:-0800
TZNAME:PST
DTSTART:20251102T090000
END:STANDARD
BEGIN:DAYLIGHT
TZOFFSETFROM:-0800
TZOFFSETTO:-0700
TZNAME:PDT
DTSTART:20260308T100000
END:DAYLIGHT
BEGIN:STANDARD
TZOFFSETFROM:-0700
TZOFFSETTO:-0800
TZNAME:PST
DTSTART:20261101T090000
END:STANDARD
BEGIN:DAYLIGHT
TZOFFSETFROM:-0800
TZOFFSETTO:-0700
TZNAME:PDT
DTSTART:20270314T100000
END:DAYLIGHT
BEGIN:STANDARD
TZOFFSETFROM:-0700
TZOFFSETTO:-0800
TZNAME:PST
DTSTART:20271107T090000
END:STANDARD
BEGIN:DAYLIGHT
TZOFFSETFROM:-0800
TZOFFSETTO:-0700
TZNAME:PDT
DTSTART:20280312T100000
END:DAYLIGHT
BEGIN:STANDARD
TZOFFSETFROM:-0700
TZOFFSETTO:-0800
TZNAME:PST
DTSTART:20281105T090000
END:STANDARD
END:VTIMEZONE
BEGIN:VEVENT
DTSTART;VALUE=DATE:20251115
DTEND;VALUE=DATE:20260504
DTSTAMP:20260423T082911
CREATED:20251109T210224Z
LAST-MODIFIED:20260209T192638Z
UID:8958-1763164800-1777852799@alovelettertoart.com
SUMMARY:Art Calendar: KAWS: FAMILY at SFMOMA (SF SoMa) | Nov. 15\, 2025–May 3\, 2026
DESCRIPTION:KAWS: FAMILY | Nov. 15\, 2025–May 3\, 2026\n\nExhibition Details\nSFMOMA’s KAWS: FAMILY marks the artist’s first major West Coast museum exhibition\, showcasing three decades of his (Brian Donnelly) distinctive\, emotionally resonant work. Featuring paintings\, drawings\, sculptures\, and iconic character-based pieces drawn from pop culture\, the show highlights KAWS’s ability to blend playfulness with poignancy. At its center is FAMILY (2021)\, a monumental bronze sculpture of his beloved figures—COMPANION\, BFF\, and CHUM—depicted as a tender family unit\, inviting viewers to reflect on themes of connection\, vulnerability\, and shared humanity. \nExhibition Dates\, Hours\, Admission\, Discounts \nKAWS: FAMILY  is on view at SFMOMA (SoMa SF) from Nov. 15\, 2025–May 3\, 2026. *Members’ Opening Reception: Friday\, Nov. 14\, 7:00–10:00 p.m. \n⭐ SFMOMA HOURS: Open Monday–Tuesday 10:00 a.m.–5:00 p.m. CLOSED WEDNESDAY. Thursday 12:00-8:00 p.m.; Friday–Sunday 10:00 a.m.–5:00 p.m.  \n⭐ SFMOMA ADMISSION: \n\n\nGeneral Admission Tickets Adults $30\nSeniors 60+ $25\nAges 19-24 $23\n18 and under FREE\n*SPECIAL EXHIBITIONS + $15 (Includes access to permanent collections)\nMembership starts at $130 GA/$110 Senior/$90 Working Artist\n\n\n⭐ SFMOMA DISCOUNTS (FREE GA): \n\n\nFREE FIRST THURSDAYS (Residents of the 9 Bay Area Counties)\nFREE FAMILY DAYS (up to 4 adults accompanying one child)\nFREE COMMUNITY DAYS\nDiscover & Go (Free w/library card – may not apply to all counties)\nSF Museums for All (show your EBT or Medi-Cal card/ID)\nSF Unified Free Staff Admission (at show proof of employment/ID – reserve in-person\, not available online)\nBlue Star Museum Discount (FREE Admission to U.S. military personnel and veterans plus up to 5 family members from the 3rd Sat in May until the 1st Monday in Sept.)\nFree General Admission + Guest w/ Sotheby’s Preferred Membership.\nFree General Admission + Guest for SFMOMA corporate partners.\n\n⭐ SFMOMA DINING (*MEMBERS RECEIVE A 10% DISCOUNT): \n\n\nSteps Coffee (2nd floor) is open Fri-Tues 9:30–4:30 p.m.; Thurs 11:00–6:00 p.m.\nCafe 5 (5th floor) is open Fri-Tues 10:30–4:00 p.m.; Thurs 12:00–7:30 p.m. (*Thursday Happy Hour 4:30–7:00 p.m. Includes $6 and $11 beer/wine\, cocktails\, and a selection of bites.)\nJane on Third (street level) Amanda Michael’s local cafe chain named for her daughter\, serves housemade baked goods\, breakfast\, sandwiches\, and salads—perfect for a quick snack or leisurely lunch. Open to the public\, MUSEUM ADMISSION NOT REQUIRED. Hours: Mon.–Fri. 9:00–5:00 p.m.; Sat.–Sun. 10:00–5:00 p.m.\n\n\nQUICK GUIDE: Berkeley Art Museum and Pacific Film Archive (BAMPFA)\n\nQUICK GUIDE: Berkeley Art Museum and Pacific Film Archive (BAMPFA)
URL:https://alovelettertoart.com/event/art-calendar-kaws-family-at-sfmoma-soma-sf-nov-15-2025-may-3-2026/
LOCATION:SFMOMA\, 151 Third Street\, San Francisco\, CA\, 94103\, United States
CATEGORIES:Art Calendar
END:VEVENT
BEGIN:VEVENT
DTSTART;TZID=America/Los_Angeles:20260429T180000
DTEND;TZID=America/Los_Angeles:20260430T010000
DTSTAMP:20260423T082911
CREATED:20260220T192941Z
LAST-MODIFIED:20260220T193242Z
UID:9664-1777485600-1777510800@alovelettertoart.com
SUMMARY:Art Calendar: SFMOMA Art Bash 2026 (SF SoMa) | April 29\, 2026
DESCRIPTION:SFMOMA Art Bash 2026 (21+) | April 29\, 2026 from 6:00 p.m.–1:00 a.m\n\nEvent Details\nSFMOMA’s annual Art Bash returns in 2026 with a milestone celebration marking the tenth anniversary of the museum’s landmark building expansion. Launched to honor the transformation that nearly tripled the museum’s gallery space\, Art Bash has become one of the Bay Area’s most anticipated cultural fundraisers—bringing together artists\, patrons\, and the city’s creative community for a night of bold art and big impact. \nEach year\, Art Bash raises over $2.5 million to support SFMOMA’s education programs\, family initiatives\, and community engagement events serving more than 150\,000 people annually. \nEvent Hours\, Admission\, Tickets \nArt Bash Dinner 6PM\, $3.5K–$100K; Art Bash Premium Party Lounge 6PM\, $500; Art Bash Party 8PM\, $250; Late Night Party 10PM\, $95. Tickets available HERE. \n\n\n  \n\nQUICK GUIDE: Berkeley Art Museum and Pacific Film Archive (BAMPFA)\n\nQUICK GUIDE: Berkeley Art Museum and Pacific Film Archive (BAMPFA)
URL:https://alovelettertoart.com/event/art-calendar-sfmoma-art-bash-2026-sf-soma-april-29-2026/
LOCATION:SFMOMA\, 151 Third Street\, San Francisco\, CA\, 94103\, United States
CATEGORIES:Art Calendar
END:VEVENT
BEGIN:VEVENT
DTSTART;VALUE=DATE:20261003
DTEND;VALUE=DATE:20270208
DTSTAMP:20260423T082911
CREATED:20260220T160727Z
LAST-MODIFIED:20260220T201448Z
UID:9642-1790985600-1802044799@alovelettertoart.com
SUMMARY:Art Calendar: RM x SFMOMA (SF SoMa) | Oct. 3\, 2026–Feb. 7\, 2027
DESCRIPTION:RM x SFMOMA | Oct. 3\, 2026–Feb. 7\, 2026\n\nExhibition Details\nRM x SFMOMA\, curated by RM of BTS\, is the first-ever museum exhibition dedicated to the artist’s personal collection\, bringing 200 works from RM and SFMOMA into dialogue. On view only at San Francisco Museum of Modern Art\, the show offers a rare opportunity to see modern and contemporary Korean masters—including Yun Hyong-keun\, Park Rehyun\, and Kim Whanki—in conversation with global icons such as Mark Rothko\, Agnes Martin\, and Henri Matisse\, with many works never before exhibited in the U.S. \nExhibition Dates\, Hours\, Admission\, Discounts \nRM x SFMOMA  is on view at SFMOMA (SF SoMa) from Oct. 3\, 2026–Feb. 7\, 2027. \n⭐ SFMOMA HOURS: Open Monday–Tuesday 10:00 a.m.–5:00 p.m. CLOSED WEDNESDAY. Thursday 12:00-8:00 p.m.; Friday–Sunday 10:00 a.m.–5:00 p.m.  \n⭐ SFMOMA ADMISSION: \n\n\nGeneral Admission Tickets Adults $30\nSeniors 60+ $25\nAges 19-24 $23\n18 and under FREE\n*SPECIAL EXHIBITIONS + $15 (Includes access to permanent collections)\nMembership starts at $130 GA/$110 Senior/$90 Working Artist\n\n\n⭐ SFMOMA DISCOUNTS (FREE GA):\n\n\nFREE FAMILY DAYS (up to 4 adults accompanying one child)\nFREE COMMUNITY DAYS\nDiscover & Go (Free w/library card – may not apply to all counties)\nSF Museums for All (show your EBT or Medi-Cal card/ID)\nSF Unified Free Staff Admission (at show proof of employment/ID – reserve in-person\, not available online)\nBlue Star Museum Discount (FREE Admission to U.S. military personnel and veterans plus up to 5 family members from the 3rd Sat in May until the 1st Monday in Sept.)\nFree General Admission + Guest w/ Sotheby’s Preferred Membership.\nFree General Admission + Guest for SFMOMA corporate partners.\n\n⭐ SFMOMA DINING (*MEMBERS RECEIVE A 10% DISCOUNT): \n\n\nSteps Coffee (2nd floor) is open Fri-Tues 9:30–4:30 p.m.; Thurs 11:00–6:00 p.m.\nCafe 5 (5th floor) is open Fri-Tues 10:30–4:00 p.m.; Thurs 12:00–7:30 p.m. (*Thursday Happy Hour 4:30–7:00 p.m. Includes $6 and $11 beer/wine\, cocktails\, and a selection of bites.)\nJane on Third (street level) Amanda Michael’s local cafe chain named for her daughter\, serves housemade baked goods\, breakfast\, sandwiches\, and salads—perfect for a quick snack or leisurely lunch. Open to the public\, MUSEUM ADMISSION NOT REQUIRED. Hours: Mon.–Fri. 9:00–5:00 p.m.; Sat.–Sun. 10:00–5:00 p.m.\n\n\nQUICK GUIDE: Berkeley Art Museum and Pacific Film Archive (BAMPFA)\n\nQUICK GUIDE: Berkeley Art Museum and Pacific Film Archive (BAMPFA)
URL:https://alovelettertoart.com/event/art-calendar-rm-x-sfmoma-sf-soma-oct-3-2026-feb-7-2026/
LOCATION:SFMOMA\, 151 Third Street\, San Francisco\, CA\, 94103\, United States
CATEGORIES:Art Calendar
END:VEVENT
END:VCALENDAR